BEGIN:VCALENDAR
VERSION:2.0
PRODID:-//Wistow Cricket Club - ECPv5.4.0//NONSGML v1.0//EN
CALSCALE:GREGORIAN
METHOD:PUBLISH
X-WR-CALNAME:Wistow Cricket Club
X-ORIGINAL-URL:https://wistowcc.org.au
X-WR-CALDESC:Events for Wistow Cricket Club
BEGIN:VTIMEZONE
TZID:Australia/Adelaide
BEGIN:STANDARD
TZOFFSETFROM:+1030
TZOFFSETTO:+0930
TZNAME:ACST
DTSTART:20160402T163000
END:STANDARD
BEGIN:DAYLIGHT
TZOFFSETFROM:+0930
TZOFFSETTO:+1030
TZNAME:ACDT
DTSTART:20161001T163000
END:DAYLIGHT
END:VTIMEZONE
BEGIN:VEVENT
DTSTART;TZID=Australia/Adelaide:20161006T163000
DTEND;TZID=Australia/Adelaide:20161006T180000
DTSTAMP:20210227T194858
CREATED:20161006T034344Z
LAST-MODIFIED:20161006T034344Z
UID:584-1475771400-1475776800@wistowcc.org.au
SUMMARY:U14/U16 Season 2016/17 Training Starts
DESCRIPTION:Season 2016/17 training starts for both the U14 and U16 teams. \nShare this:
URL:https://wistowcc.org.au/event/u14u16-season-201617-training-starts/
LOCATION:“The Hill”\, 514 Wellington Rd\, Wistow\, SA\, 5251\, Australia
END:VEVENT
END:VCALENDAR