BEGIN:VCALENDAR
VERSION:2.0
PRODID:-//Wistow Cricket Club - ECPv5.4.0//NONSGML v1.0//EN
CALSCALE:GREGORIAN
METHOD:PUBLISH
X-WR-CALNAME:Wistow Cricket Club
X-ORIGINAL-URL:https://wistowcc.org.au
X-WR-CALDESC:Events for Wistow Cricket Club
BEGIN:VTIMEZONE
TZID:Australia/Adelaide
BEGIN:STANDARD
TZOFFSETFROM:+1030
TZOFFSETTO:+0930
TZNAME:ACST
DTSTART:20140405T163000
END:STANDARD
BEGIN:DAYLIGHT
TZOFFSETFROM:+0930
TZOFFSETTO:+1030
TZNAME:ACDT
DTSTART:20141004T163000
END:DAYLIGHT
END:VTIMEZONE
BEGIN:VEVENT
DTSTART;TZID=Australia/Adelaide:20141013T160000
DTEND;TZID=Australia/Adelaide:20141013T170000
DTSTAMP:20210227T194629
CREATED:20141011T100302Z
LAST-MODIFIED:20141011T100302Z
UID:43-1413216000-1413219600@wistowcc.org.au
SUMMARY:U12 Training
DESCRIPTION:Share this:
URL:https://wistowcc.org.au/event/u12-training/
END:VEVENT
END:VCALENDAR