BEGIN:VCALENDAR
VERSION:2.0
PRODID:-//Wistow Cricket Club - ECPv5.4.0//NONSGML v1.0//EN
CALSCALE:GREGORIAN
METHOD:PUBLISH
X-WR-CALNAME:Wistow Cricket Club
X-ORIGINAL-URL:https://wistowcc.org.au
X-WR-CALDESC:Events for Wistow Cricket Club
BEGIN:VTIMEZONE
TZID:Australia/Adelaide
BEGIN:STANDARD
TZOFFSETFROM:+1030
TZOFFSETTO:+0930
TZNAME:ACST
DTSTART:20160402T163000
END:STANDARD
BEGIN:DAYLIGHT
TZOFFSETFROM:+0930
TZOFFSETTO:+1030
TZNAME:ACDT
DTSTART:20161001T163000
END:DAYLIGHT
END:VTIMEZONE
BEGIN:VEVENT
DTSTART;TZID=Australia/Adelaide:20161023T100000
DTEND;TZID=Australia/Adelaide:20161023T130000
DTSTAMP:20210227T194958
CREATED:20161006T035511Z
LAST-MODIFIED:20161006T035511Z
UID:594-1477216800-1477227600@wistowcc.org.au
SUMMARY:SACA Country Cup - Fleurieu Team Trials
DESCRIPTION:It is that time of the year again that the Fleurieu Zone committees and SACA are looking at selecting the best young cricketers to represent the Fleurieu zone at the SACA country cup carnivals. This year we are excited to see the carnivals being played in the Barossa and Light Cricket Association.  The players will be coming together for two training sessions from which squads will be picked to participate in the under 14 and 16 carnivals. All players are welcome to try out. After an extensive review by the Fleurieu zone committees and SACA the third Central Fleurieu team that participated for the first time last season will  be replaced  by an Invitational team to be selected from the Fleurieu and Barossa zones. \nIf you have any questions please don’t hesitate to contact; \nSteve Kavanagh – skavanagh@saca.com.au 0424121691 Torrens Valley\, Hills\, Murray Towns \nSteven Broberg – sbrogerg@saca.com.au 0438187955 Alexandra & Eastern Hills\, Great Southern\, KI \n Please forward any registrations you receive to Leeanne Gladigau via email at Leeanne.Gladigau@bigpond.com \nLinks to the Information flyer and player registration form are as follows: \n\nfleurieu-trials-player-registration-16-17\nfleurieu-trials-16-17-info-flyer\n\nShare this:
URL:https://wistowcc.org.au/event/saca-country-cup-fleurieu-team-trials-2/
LOCATION:Gillespie Sports\, 375 Cross Rd\, Edwardstown\, South Australia\, 5039\, Australia
END:VEVENT
END:VCALENDAR