BEGIN:VCALENDAR
VERSION:2.0
PRODID:-//Wistow Cricket Club - ECPv5.4.0//NONSGML v1.0//EN
CALSCALE:GREGORIAN
METHOD:PUBLISH
X-WR-CALNAME:Wistow Cricket Club
X-ORIGINAL-URL:https://wistowcc.org.au
X-WR-CALDESC:Events for Wistow Cricket Club
BEGIN:VTIMEZONE
TZID:Australia/Adelaide
BEGIN:STANDARD
TZOFFSETFROM:+1030
TZOFFSETTO:+0930
TZNAME:ACST
DTSTART:20150404T163000
END:STANDARD
BEGIN:DAYLIGHT
TZOFFSETFROM:+0930
TZOFFSETTO:+1030
TZNAME:ACDT
DTSTART:20151003T163000
END:DAYLIGHT
END:VTIMEZONE
BEGIN:VEVENT
DTSTART;TZID=Australia/Adelaide:20150308T083000
DTEND;TZID=Australia/Adelaide:20150308T140000
DTSTAMP:20210227T194818
CREATED:20150218T044456Z
LAST-MODIFIED:20150306T070306Z
UID:405-1425803400-1425823200@wistowcc.org.au
SUMMARY:Lightning Carnival for U12 teams in the AEH Cricket Association
DESCRIPTION:Hi All \nThe SACA will again be running a Lightning Carnival at the end of the season for all U12 teams. Last year the carnival was a huge success & we are looking to build on that this year. This year the U12’s carnival will be held on a separate weekend & venue to the U10 carnival\, to allow for the playing fields for the U12’s to be made bigger than last year. \nPlease find links to the rules & schedule and the official carnival score sheet. I will be bringing hard copies of the score sheet to the carnival and I would be grateful if I can have a parent volunteer for each game to keep score. \nAEH U12 Lightning Carnival 2015 – Rules & schedule \nLightning Carnival Score sheet \nCheers \nIan \nShare this:
URL:https://wistowcc.org.au/event/lightning-carnival-for-u12-teams-in-the-aeh-cricket-association/
LOCATION:Echunga Oval\, Echunga\, SA\, 5153\, Australia
ATTACH;FMTTYPE=image/jpeg:https://wistowcc.org.au/wp-content/uploads/SACACMYK3D-e1424234861227.jpg
END:VEVENT
END:VCALENDAR