BEGIN:VCALENDAR
VERSION:2.0
PRODID:-//Wistow Cricket Club - ECPv5.4.0//NONSGML v1.0//EN
CALSCALE:GREGORIAN
METHOD:PUBLISH
X-WR-CALNAME:Wistow Cricket Club
X-ORIGINAL-URL:https://wistowcc.org.au
X-WR-CALDESC:Events for Wistow Cricket Club
BEGIN:VTIMEZONE
TZID:Australia/Adelaide
BEGIN:STANDARD
TZOFFSETFROM:+1030
TZOFFSETTO:+0930
TZNAME:ACST
DTSTART:20150404T163000
END:STANDARD
BEGIN:DAYLIGHT
TZOFFSETFROM:+0930
TZOFFSETTO:+1030
TZNAME:ACDT
DTSTART:20151003T163000
END:DAYLIGHT
END:VTIMEZONE
BEGIN:VEVENT
DTSTART;TZID=Australia/Adelaide:20150902T163000
DTEND;TZID=Australia/Adelaide:20150902T183000
DTSTAMP:20210227T194430
CREATED:20150828T013926Z
LAST-MODIFIED:20150828T013926Z
UID:431-1441211400-1441218600@wistowcc.org.au
SUMMARY:Junior Registration - Season 2015/16
DESCRIPTION:It’s that time of the year again. Your kids have only just hung up their footy boots (well for those of you not playing finals) and are starting to turn their attention to cricket. Good news the Wistow Cricket Club will be holding Junior Registration\, so please come along to “The Hill” and sign your kids up. \nCheers \nIan Landon\nWistow CC Junior Representative \nShare this:
URL:https://wistowcc.org.au/event/junior-registration-season-201516/
LOCATION:“The Hill”\, 514 Wellington Rd\, Wistow\, SA\, 5251\, Australia
ATTACH;FMTTYPE=image/png:https://wistowcc.org.au/wp-content/uploads/wcc-logo1.png
END:VEVENT
END:VCALENDAR