BEGIN:VCALENDAR
VERSION:2.0
PRODID:-//Wistow Cricket Club - ECPv5.4.0//NONSGML v1.0//EN
CALSCALE:GREGORIAN
METHOD:PUBLISH
X-WR-CALNAME:Wistow Cricket Club
X-ORIGINAL-URL:https://wistowcc.org.au
X-WR-CALDESC:Events for Wistow Cricket Club
BEGIN:VTIMEZONE
TZID:Australia/Adelaide
BEGIN:STANDARD
TZOFFSETFROM:+1030
TZOFFSETTO:+0930
TZNAME:ACST
DTSTART:20140405T163000
END:STANDARD
BEGIN:DAYLIGHT
TZOFFSETFROM:+0930
TZOFFSETTO:+1030
TZNAME:ACDT
DTSTART:20141004T163000
END:DAYLIGHT
END:VTIMEZONE
BEGIN:VEVENT
DTSTART;TZID=Australia/Adelaide:20141129T130000
DTEND;TZID=Australia/Adelaide:20141129T183000
DTSTAMP:20210227T194700
CREATED:20141126T110739Z
LAST-MODIFIED:20141126T110739Z
UID:292-1417266000-1417285800@wistowcc.org.au
SUMMARY:A Grades at home to Langhorne Creek
DESCRIPTION:Share this:
URL:https://wistowcc.org.au/event/grades-home-langhorne-creek/
END:VEVENT
END:VCALENDAR